BEGIN:VCALENDAR
VERSION:2.0
BEGIN:VEVENT
URL:https://thesaloonbar.oztix.com.au/outlet/event/d6917c0f-4176-4d4e-bd43-caa0a10047fb
DTSTART:20200411T090000Z
DTEND:20200411T090000Z
SUMMARY:Kingswood
DESCRIPTION:Event details: https://thesaloonbar.oztix.com.au/outlet/event/d6917c0f-4176-4d4e-bd43-caa0a10047fb
LOCATION:The Saloon Bar (Hotel Tasmania) (Launceston, TAS)
END:VEVENT
END:VCALENDAR