BEGIN:VCALENDAR
VERSION:2.0
BEGIN:VEVENT
URL:https://thesaloonbar.oztix.com.au/outlet/event/154fafe9-db1d-453d-bb53-da1a716e2bf7
DTSTART:20200312T090000Z
DTEND:20200312T090000Z
SUMMARY:Adam Brand - Speed of Life Tour - CANCELLED
DESCRIPTION:Event details: https://thesaloonbar.oztix.com.au/outlet/event/154fafe9-db1d-453d-bb53-da1a716e2bf7
LOCATION:The Saloon Bar (Hotel Tasmania) (Launceston, TAS)
END:VEVENT
END:VCALENDAR