BEGIN:VCALENDAR
VERSION:2.0
BEGIN:VEVENT
URL:https://thesaloonbar.oztix.com.au/outlet/event/05fba6e2-5aa0-460d-8f0e-04da88fbe6ee
DTSTART:20200530T093000Z
DTEND:20200530T093000Z
SUMMARY:Slowly Slowly 'Race Car Blues' Album Tour
DESCRIPTION:Event details: https://thesaloonbar.oztix.com.au/outlet/event/05fba6e2-5aa0-460d-8f0e-04da88fbe6ee
LOCATION:The Saloon Bar (Hotel Tasmania) (Launceston, TAS)
END:VEVENT
END:VCALENDAR